BEGIN:VCALENDAR
VERSION:2.0
PRODID:-//The Institute of Chartered Accountants of Pakistan - ECPv6.15.12.2//NONSGML v1.0//EN
CALSCALE:GREGORIAN
METHOD:PUBLISH
X-WR-CALNAME:The Institute of Chartered Accountants of Pakistan
X-ORIGINAL-URL:https://staging.icap.org.pk/icap
X-WR-CALDESC:Events for The Institute of Chartered Accountants of Pakistan
REFRESH-INTERVAL;VALUE=DURATION:PT1H
X-Robots-Tag:noindex
X-PUBLISHED-TTL:PT1H
BEGIN:VTIMEZONE
TZID:UTC
BEGIN:STANDARD
TZOFFSETFROM:+0000
TZOFFSETTO:+0000
TZNAME:UTC
DTSTART:20240101T000000
END:STANDARD
END:VTIMEZONE
BEGIN:VEVENT
DTSTART;TZID=UTC:20251211T080000
DTEND;TZID=UTC:20251215T170000
DTSTAMP:20260423T212358
CREATED:20251211T064551Z
LAST-MODIFIED:20251211T080101Z
UID:11322-1765440000-1765818000@staging.icap.org.pk
SUMMARY:Data Analytics Training Program (Online) – Cohort 17
DESCRIPTION:The Data Analytics Training Program equips finance\, audit\, and business professionals with data-driven decision-making skills. Through 144 hours of progressive learning\, participants gain expertise in financial modeling\, forecasting\, and analytics tools—mastering techniques in dashboards\, data mining\, predictive modeling\, and coding to transform data into actionable business insights.
URL:https://staging.icap.org.pk/icap/event/data-analytics-training-program-online-cohort-17/
CATEGORIES:Webinar
ATTACH;FMTTYPE=image/jpeg:https://staging.icap.org.pk/icap/wp-content/uploads/2025/12/coming_soon.jpeg
END:VEVENT
END:VCALENDAR