BEGIN:VCALENDAR
VERSION:2.0
PRODID:-//The Institute of Chartered Accountants of Pakistan - ECPv6.15.12.2//NONSGML v1.0//EN
CALSCALE:GREGORIAN
METHOD:PUBLISH
X-WR-CALNAME:The Institute of Chartered Accountants of Pakistan
X-ORIGINAL-URL:https://staging.icap.org.pk/icap
X-WR-CALDESC:Events for The Institute of Chartered Accountants of Pakistan
REFRESH-INTERVAL;VALUE=DURATION:PT1H
X-Robots-Tag:noindex
X-PUBLISHED-TTL:PT1H
BEGIN:VTIMEZONE
TZID:UTC
BEGIN:STANDARD
TZOFFSETFROM:+0000
TZOFFSETTO:+0000
TZNAME:UTC
DTSTART:20240101T000000
END:STANDARD
END:VTIMEZONE
BEGIN:VEVENT
DTSTART;TZID=UTC:20250501T080000
DTEND;TZID=UTC:20250530T170000
DTSTAMP:20260423T233350
CREATED:20251211T094109Z
LAST-MODIFIED:20251211T094109Z
UID:11336-1746086400-1748624400@staging.icap.org.pk
SUMMARY:ICAP CFO Conference Middle East 2025
DESCRIPTION:Building on the legacy of four successful editions\, the 5th ICAP CFO Conference Middle East 2025 will be held on October 27\, 2025\, at Al Baraha Ballroom\, InterContinental Dubai Festival City. Under the theme “Quantum Leap – Agility & Competitive Edge\,” it will gather 500+ CEOs\, CFOs\, policymakers\, and global thought leaders to explore finance-driven transformation and sustainable growth.
URL:https://staging.icap.org.pk/icap/event/icap-cfo-conference-middle-east-2025/
CATEGORIES:Conference
ATTACH;FMTTYPE=image/png:https://staging.icap.org.pk/icap/wp-content/uploads/2019/01/post-image.png
END:VEVENT
END:VCALENDAR